BEGIN:VCALENDAR
VERSION:2.0
PRODID:-//Le Lion VG - ECPv6.0.8//NONSGML v1.0//EN
CALSCALE:GREGORIAN
METHOD:PUBLISH
X-WR-CALNAME:Le Lion VG
X-ORIGINAL-URL:https://www.lelionvg.com
X-WR-CALDESC:évènements pour Le Lion VG
REFRESH-INTERVAL;VALUE=DURATION:PT1H
X-Robots-Tag:noindex
X-PUBLISHED-TTL:PT1H
BEGIN:VTIMEZONE
TZID:Europe/Paris
BEGIN:DAYLIGHT
TZOFFSETFROM:+0100
TZOFFSETTO:+0200
TZNAME:CEST
DTSTART:20190331T010000
END:DAYLIGHT
BEGIN:STANDARD
TZOFFSETFROM:+0200
TZOFFSETTO:+0100
TZNAME:CET
DTSTART:20191027T010000
END:STANDARD
END:VTIMEZONE
BEGIN:VEVENT
DTSTART;VALUE=DATE:20190323
DTEND;VALUE=DATE:20190324
DTSTAMP:20260423T165303
CREATED:20190318T202615Z
LAST-MODIFIED:20190318T202616Z
UID:6418-1553299200-1553385599@www.lelionvg.com
SUMMARY:Vegfest UK
DESCRIPTION:Vegfest UK est un festival annuel de cuisine végétalienne organisé chaque année. \nPas de recette ce samedi… Mais je ferais un article sur cette journée ! 🙂 \nPartager :\n				Partager sur Facebook(ouvre dans une nouvelle fenêtre)\n				Facebook\n			\n				Partager sur X(ouvre dans une nouvelle fenêtre)\n				X
URL:https://www.lelionvg.com/event/vegfest-uk/
LOCATION:Vegfest\, Londre\, Royaume-Uni
END:VEVENT
END:VCALENDAR